BEGIN:VCALENDAR
VERSION:2.0
PRODID:-//FESVET - ECPv6.15.20//NONSGML v1.0//EN
CALSCALE:GREGORIAN
METHOD:PUBLISH
X-ORIGINAL-URL:https://fesvet.es
X-WR-CALDESC:Eventos para FESVET
REFRESH-INTERVAL;VALUE=DURATION:PT1H
X-Robots-Tag:noindex
X-PUBLISHED-TTL:PT1H
BEGIN:VTIMEZONE
TZID:UTC
BEGIN:STANDARD
TZOFFSETFROM:+0000
TZOFFSETTO:+0000
TZNAME:UTC
DTSTART:20210101T000000
END:STANDARD
END:VTIMEZONE
BEGIN:VEVENT
DTSTART;TZID=UTC:20220518T160000
DTEND;TZID=UTC:20220521T143000
DTSTAMP:20260420T044819
CREATED:20220408T072858Z
LAST-MODIFIED:20220408T074210Z
UID:2071-1652889600-1653143400@fesvet.es
SUMMARY:Jornadas GEVO - AVEPA 2022
DESCRIPTION:Jornadas organizadas por el GRUPO DE TRABAJO DE ORTOPEDIA Y TRAUMATOLOGÍA  que tendrán lugar del 18-21 de mayo en BILBAO
URL:https://fesvet.es/evento/jornadas-gevo-avepa/
LOCATION:AZKUNA ZENTROA\, Plaza Arriquibar\, 4\, Bilbao\, España\, 48010\, España
CATEGORIES:Jornadas
ATTACH;FMTTYPE=image/png:https://fesvet.es/wp-content/uploads/2022/04/GEVO22.png
ORGANIZER;CN="Muriel Idelsohn":MAILTO:midelsohn@avepa.org
END:VEVENT
BEGIN:VEVENT
DTSTART;TZID=UTC:20220430T000000
DTEND;TZID=UTC:20220430T233000
DTSTAMP:20260420T044819
CREATED:20220423T044245Z
LAST-MODIFIED:20220423T044543Z
UID:2202-1651276800-1651361400@fesvet.es
SUMMARY:Día Mundial del Veterinario 2022
DESCRIPTION:Evento anual que se celebra el último sábado de abril. Este año 2022 coincide su celebración el 30 de abril. Se creó por iniciativa de la Asociación Mundial de Veterinaria (AMV) y tiene sus orígenes en el 2011 con motivo de la celebración del 250 aniversario de creación de la primera escuela veterinaria en Lyon (Francia)\, en 1761. Se ha convertido en una fecha de celebración común para todos los veterinarios del mundo y una importante oportunidad para dar a conocer la extraordinaria labor que desempeñan los veterinarios en la sociedad.
URL:https://fesvet.es/evento/dia-mundial-del-veterinario-2022/
LOCATION:España
CATEGORIES:Celebraciones
ATTACH;FMTTYPE=image/png:https://fesvet.es/wp-content/uploads/2022/04/WVA.png
ORGANIZER;CN="Asociaci%C3%B3n Mundial de Veterinaria  (AMV)":MAILTO:secretariat@worldvet.org
END:VEVENT
BEGIN:VEVENT
DTSTART;TZID=UTC:20220422T080000
DTEND;TZID=UTC:20220423T170000
DTSTAMP:20260420T044819
CREATED:20220402T163048Z
LAST-MODIFIED:20220402T163539Z
UID:1809-1650614400-1650733200@fesvet.es
SUMMARY:XXI Congreso de especialidades veterinarias AVEPA-GTA 2022
DESCRIPTION:El Congreso  tendrá lugar en El palacio de Congreso de Zaragoza los día 22 y 23 de abril. En el encontrarás una enorme oferta de formación\, la posibilidad de interactuar con multitud de compañeros interesados en nuestra especialidad\, aprender de ellos\, y participar en los principales foros de las especialidades de nuestra profesión. Presencial y Online. Formulario de inscripción \nDecargar programa
URL:https://fesvet.es/evento/xxi-congreso-de-especialidades-veterinarias-avepa-gta-2022/
LOCATION:PALACIO DE CONGRESOS DE ZARAGOZA\, Plaza Lucas Miret Rodriguez\,1\, Zaragoza\, España\, 50018\, España
CATEGORIES:Congreso
ATTACH;FMTTYPE=image/png:https://fesvet.es/wp-content/uploads/2022/04/GTA2022.png
END:VEVENT
BEGIN:VEVENT
DTSTART;TZID=UTC:20220403T120000
DTEND;TZID=UTC:20220403T140000
DTSTAMP:20260420T044819
CREATED:20220310T175634Z
LAST-MODIFIED:20220313T183551Z
UID:715-1648987200-1648994400@fesvet.es
SUMMARY:2ª Manifestación Veterinaria
DESCRIPTION:
URL:https://fesvet.es/evento/manifestacion-3-de-abril-2022/
LOCATION:España
CATEGORIES:Manifestación
ATTACH;FMTTYPE=image/jpeg:https://fesvet.es/wp-content/uploads/2022/03/2manifestacion-e1647197171127.jpeg
ORGANIZER;CN="FESVET":MAILTO:webmaster@fesvet.es
END:VEVENT
END:VCALENDAR