BEGIN:VCALENDAR
VERSION:2.0
PRODID:-//FESVET - ECPv6.15.20//NONSGML v1.0//EN
CALSCALE:GREGORIAN
METHOD:PUBLISH
X-WR-CALNAME:FESVET
X-ORIGINAL-URL:https://fesvet.es
X-WR-CALDESC:Eventos para FESVET
REFRESH-INTERVAL;VALUE=DURATION:PT1H
X-Robots-Tag:noindex
X-PUBLISHED-TTL:PT1H
BEGIN:VTIMEZONE
TZID:UTC
BEGIN:STANDARD
TZOFFSETFROM:+0000
TZOFFSETTO:+0000
TZNAME:UTC
DTSTART:20210101T000000
END:STANDARD
END:VTIMEZONE
BEGIN:VTIMEZONE
TZID:UTC
BEGIN:STANDARD
TZOFFSETFROM:+0000
TZOFFSETTO:+0000
TZNAME:UTC
DTSTART:20210101T000000
END:STANDARD
END:VTIMEZONE
BEGIN:VEVENT
DTSTART;TZID=UTC:20230921T080000
DTEND;TZID=UTC:20230923T170000
DTSTAMP:20260420T013209
CREATED:20230802T080948Z
LAST-MODIFIED:20230802T080950Z
UID:3932-1695283200-1695488400@fesvet.es
SUMMARY:II Congreso Internacional de Sanidad y Bienestar Animal
DESCRIPTION:El Consejo General de Colegios de Veterinarios de España\, celebrará durante los días 21\, 22 y 23 de septiembre de 2023\, el II Congreso Internacional de Sanidad y Bienestar Animal en la ciudad de Córdoba\, siguiendo así la buena experiencia abierta\, para este tipo de acontecimientos\, en León en el año 2022. \n\n\n\nCon este evento la Organización Colegial Veterinaria trata de encabezar dos aspectos básicos para la Profesión Veterinaria como son la Salud Animal-Humana y el Bienestar Animal fomentando su progreso Científico-Técnico y mostrando además la relevancia que la actividad veterinaria debe tener en la aplicación del denominado One Health.
URL:https://fesvet.es/evento/ii-congreso-internacional-de-sanidad-y-bienestar-animal/
LOCATION:Rectorado de la Universidad de Córdoba\, Av. de Medina Azahara\, 5\, Córdoba\, 14071\, España
CATEGORIES:Congreso
ATTACH;FMTTYPE=image/png:https://fesvet.es/wp-content/uploads/2023/08/cgr3.png
ORGANIZER;CN="C.V.G.V.E":MAILTO:cisba@colvet.es
END:VEVENT
BEGIN:VEVENT
DTSTART;TZID=UTC:20230421T000000
DTEND;TZID=UTC:20230422T000000
DTSTAMP:20260420T013209
CREATED:20221203T083518Z
LAST-MODIFIED:20221203T084128Z
UID:3445-1682035200-1682121600@fesvet.es
SUMMARY:XXVII Congreso de Especialidades Veterinarias AVEPA-GTA
DESCRIPTION:Organizado por la Asociación de Veterinarios Españoles Especialistas en Pequeños Animales. Tendrá lugar en Bilbao
URL:https://fesvet.es/evento/xxvii-congreso-de-especialidades-veterinarias-avepa-gta/
LOCATION:Palacio de Congresos de Bilbao\, Abandoibarra Etorb.\, 4\, 48011 Bilbo\, Bizkaia\, Bilbao\, 48011\, España
CATEGORIES:Congreso
ATTACH;FMTTYPE=image/png:https://fesvet.es/wp-content/uploads/2022/12/AVEPA-GTA23.png
END:VEVENT
BEGIN:VEVENT
DTSTART;TZID=UTC:20230315T000000
DTEND;TZID=UTC:20230317T000000
DTSTAMP:20260420T013209
CREATED:20221203T085613Z
LAST-MODIFIED:20221203T085615Z
UID:3454-1678838400-1679011200@fesvet.es
SUMMARY:Vetmadrid 2023-XL Congreso Anual organizado por AMVAC
DESCRIPTION:XL Congreso Anual organizado por AMVAC (Asociación Madrileña de Veterinarios de Animales de Compañía) celebrará los días15\, 16 y 17 de marzo de 2023\, su cuadragésima edición que tratará sobre “Medicina y cirugía de atención inmediata” y tendrá lugar de manera paralela a la Feria Iberzoo+PROPET\, evento ineludible para el sector profesional del animal de compañía.
URL:https://fesvet.es/evento/vetmadrid-2023-xl-congreso-anual-organizado-por-amvac/
LOCATION:Centro de Convenciones Norte de Ifema\, Feria de Madrid\, Avda. Partenón\, 5\, Madrid\, 28042\, España
CATEGORIES:Congreso
ATTACH;FMTTYPE=image/png:https://fesvet.es/wp-content/uploads/2022/12/congresoAMVAC.png
END:VEVENT
BEGIN:VEVENT
DTSTART;TZID=UTC:20221021T113000
DTEND;TZID=UTC:20221023T183000
DTSTAMP:20260420T013209
CREATED:20220522T070429Z
LAST-MODIFIED:20220522T071342Z
UID:2430-1666351800-1666549800@fesvet.es
SUMMARY:XXVII Congreso Nacional y XVIII Congreso Iberoamericano de Historia de la Veterinaria.
DESCRIPTION:El congreso  tendrá lugar en Jerez  de la Frontera\, provincia de Cádiz el próximo mes de octubre del 21 al 23. Espera reunir a más de 200 veterinarios y estudiosos de la historia de la veterinaria\, todos bajo un mismo fin\, la historia\, la sociedad\, nuestra profesión y su proyección futura.
URL:https://fesvet.es/evento/xxvii-congreso-nacional-y-xviii-congreso-iberoamericano-de-historia-de-la-veterinaria/
LOCATION:Sala única  en Museo Atalaya\, Jardines de la Atalaya\, C. Cervantes\, 3\, 11403 Jerez de la Frontera\, Cádiz\, 11403 Jérez de la Frontera\, 11403\, España
ATTACH;FMTTYPE=image/jpeg:https://fesvet.es/wp-content/uploads/2022/05/Congreso-Historia_Veterinaria_Cadiz-2022.jpg
ORGANIZER;CN="Asociaci%C3%B3n Nacional de Historia de la Veterinaria y Colegio de Veterinarios de C%C3%A1diz":MAILTO:SECRETARIATECNICA@CONGRESOHISTORIAVETERINARIA.ES
END:VEVENT
BEGIN:VEVENT
DTSTART;TZID=UTC:20221020T160000
DTEND;TZID=UTC:20221022T184500
DTSTAMP:20260420T013209
CREATED:20220621T145500Z
LAST-MODIFIED:20220621T145501Z
UID:2647-1666281600-1666464300@fesvet.es
SUMMARY:XVI Congreso de la Asociación Española de Reproducción Animal.
DESCRIPTION:Tendrá lugar en León los días 20-21-22 de octubre .
URL:https://fesvet.es/evento/xvi-congreso-de-la-asociacion-espanola-de-reproduccion-animal/
LOCATION:Universidad de León\, Campus de Vegazana\, León\, España\, 24071\, España
CATEGORIES:Congreso
ATTACH;FMTTYPE=image/png:https://fesvet.es/wp-content/uploads/2022/06/Congreso-AERA.png
ORGANIZER;CN="Asociaci%C3%B3n Espa%C3%B1ola de Reproducci%C3%B3n Animal":MAILTO:info@aera.org.es
END:VEVENT
BEGIN:VEVENT
DTSTART;TZID=UTC:20221020T083000
DTEND;TZID=UTC:20221021T210000
DTSTAMP:20260420T013209
CREATED:20220831T100052Z
LAST-MODIFIED:20220831T100053Z
UID:2952-1666254600-1666386000@fesvet.es
SUMMARY:XXVIII Jornadas AVESA de Salud Pública Veterinaria “Retos profesionales de la Salud Pública Veterinaria”
DESCRIPTION:Está dirigido a todos los profesionales implicados en la Salud Humana y Animal\, atendiendo asíel concepto “One Health\, Una Sola Salud” y\, para ello\, hemos diseñado un programa en el quevamos a tratar actualizar e intercambiar conocimientos y experiencias en los temas queconsideramos más relevantes por su repercusión directa o indirectamente en la gestión de laSalud Comunitaria.Estos temas están distribuidos en cuatro grandes bloques:-One Health y la producción de alimentos de origen animal: bienestar animal y lasostenibilidad.-Resistencias a los antimicrobianos como gran reto de Salud Pública y la visión One Healthcomo estrategia de control y herramienta de lucha.-Nuevos alimentos y seguridad alimentaria.-Momentos de reflexión: ¿hacia dónde vamos?
URL:https://fesvet.es/evento/xxviii-jornadas-avesa-de-salud-publica-veterinaria-retos-profesionales-de-la-salud-publica-veterinaria/
LOCATION:PARANINFO GORDÓN ORDÁS\, EDIFICIO EL ALBÉITAR.\, Avenida Facultad de Veterinaria 25\, León\, Castilla y León\, 24004\, España
CATEGORIES:Jornadas
ATTACH;FMTTYPE=image/jpeg:https://fesvet.es/wp-content/uploads/2022/08/logo_avesa.jpg
ORGANIZER;CN="AVESA (Asociaci%C3%B3n de Veterinarios Especialistas en Seguridad Alimentaria)":MAILTO:avesa@avesa.vet
END:VEVENT
BEGIN:VEVENT
DTSTART;TZID=UTC:20221020T080000
DTEND;TZID=UTC:20221022T170000
DTSTAMP:20260420T013209
CREATED:20220402T160343Z
LAST-MODIFIED:20220402T163519Z
UID:1801-1666252800-1666458000@fesvet.es
SUMMARY:Congreso nacional AVEPA-SEVC 2022
DESCRIPTION:El  Congreso Nacional de AVEPA – Southern European Veterinary Conference (SEVC) es un evento líder en Europa en formación continuada y en provisión de información\, para la clínica de animales de compañía. Programa científico. \n\n\n\nPor temáticas se dividirá en: \n\n\n\nMedicina FelinaOtros animales de compañía (conejos\, reptiles\, tortugas marinas\, animales exóticos y quelonios)Dermatología.Cirugía.Gestión de la clínica.Anestesia y control del dolor.Nutrición.Cardiología.Diagnóstico por imagen.Urgencias\, cuidados intensivos.Traumatología.Medicina interna:Endocrinología.RespiratorioGastroenterologíaOncología
URL:https://fesvet.es/evento/congreso-nacional-avepa-sevc-2022/
LOCATION:PALACIO CONGRESOS DE SEVILLA – FIBES II\, Alcalde Luis Uruñuela\,1\, Sevilla\, España\, 41020\, España
CATEGORIES:Congreso
ATTACH;FMTTYPE=image/png:https://fesvet.es/wp-content/uploads/2022/04/SEVC2022.png
END:VEVENT
BEGIN:VEVENT
DTSTART;TZID=UTC:20220915T080000
DTEND;TZID=UTC:20220917T170000
DTSTAMP:20260420T013209
CREATED:20220527T074737Z
LAST-MODIFIED:20220605T052351Z
UID:2465-1663228800-1663434000@fesvet.es
SUMMARY:I Congreso Internacional de Sanidad y Bienestar Animal. León
DESCRIPTION:El Rectorado de la Universidad de León acogerá el I Congreso Internacional de Sanidad y Bienestar Animal los días 15\, 16 y 17 de septiembre\, organizado por el Consejo General de Colegios de Veterinarios de España\, tras la fusión del Congreso Nacional de Sanidad Animal y la Conferencia sobre Veterinaria y Bienestar Animal\, que se venían realizando en los últimos años. \nDurante los 3 días que durará el Congreso se reunirán expertos de reconocido prestigio en estos ámbitos para tratar aspectos científico-técnicos sobre sanidad y bienestar animal\, ya sea de forma general como específica dirigida a las distintas especies animales. \nPrograma provisional–Normas para envío de comunicaciones \n 
URL:https://fesvet.es/evento/i-congreso-internacional-de-sanidad-y-bienestar-animal-leon/
CATEGORIES:Congreso
ATTACH;FMTTYPE=image/jpeg:https://fesvet.es/wp-content/uploads/2022/05/cartel-congreso-sanidad-y-bienestar-animal-B.jpg
ORGANIZER;CN="Consejo General de Colegios Veterinarios de Espa%C3%B1a":MAILTO:secretariageneral@colvet.es
END:VEVENT
BEGIN:VEVENT
DTSTART;TZID=UTC:20220715T200000
DTEND;TZID=UTC:20220715T220000
DTSTAMP:20260420T013209
CREATED:20220705T145741Z
LAST-MODIFIED:20220706T075703Z
UID:2747-1657915200-1657922400@fesvet.es
SUMMARY:Jornada. Rabia. Recomendaciones sobre la gestión del control de animales susceptibles.
DESCRIPTION:“Rabia. Recomendaciones sobre la gestión del control de animales susceptibles: el papel de los Colegios de Veterinarios como entidades coordinadoras. Modelo para otras emergencias sanitarias.” \n\n\n\n\n\n\n\n\n\nJornada de Presentación del informe de la Real Academia de Ciencias Veterinarias de Andalucía Oriental sobre la Rabia\n\n\n\nDesarrollo de la Sesión: \n\n\n\n20.00 h. Apertura de la Sesión \n\n\n\nJuan Antonio de Luque Ibáñez \n\n\n\nPresidente del Ilustre Colegio Oficial de Veterinarios de la provincia de Málaga. \n\n\n\nAntonio J Villatoro Jiménez \n\n\n\nPresidente de la Real Academia de Ciencias Veterinarias de Andalucía Oriental. \n\n\n\n20.10 h. La rabia: enfoque One Health. \n\n\n\nRafael Astorga Márquez \n\n\n\nCatedrático de Sanidad Animal de la Universidad de Córdoba. \n\n\n\n20.20 h. Rabia: diagnóstico clínico. Presentación de casos y videos. \n\n\n\nRafael Serrano Romero \n\n\n\nPresidente del Colegio de Veterinarios de Melilla. \n\n\n\n20.40 h. Viruela del mono y mascotas. \n\n\n\nFernando Fariñas Guerrero \n\n\n\nInstituto de Inmunología Clínica y Enfermedades Infecciosas. (Grupo Ynmun Biomedicina).Málaga. \n\n\n\n20.50 h. Migración de perros de Ucrania y filariosis: posibles repercusiones sobre la salud humana. \n\n\n\nAlberto Montoya Alonso \n\n\n\nCatedrático de Medicina y Cirugía Animal del Departamento de Patología Animal de la ULPGC \n\n\n\n21.00 h. Presentación del informe sobre la rabia. \n\n\n\nAntonio J. Villatoro Jiménez \n\n\n\nPresidente de la Real Academia de Ciencias Veterinarias de Andalucía Oriental. \n\n\n\nRafael Serrano Romero \n\n\n\nPresidente del Colegio de Veterinarios de Melilla. \n\n\n\n21.20 h. Mesa redonda.
URL:https://fesvet.es/evento/jornada-de-presentacion-del-informe-de-la-real-academia-de-ciencias-veterinarias-de-andalucia-oriental-rabia/
LOCATION:Colegio Oficial de Veterinarios de Málaga\, Pje. Esperanto\, 1\,\, Málaga\, 29007\, España
CATEGORIES:Jornadas
ATTACH;FMTTYPE=image/jpeg:https://fesvet.es/wp-content/uploads/2022/07/Evento-Rabia-Julio-2022.jpg
END:VEVENT
BEGIN:VEVENT
DTSTART;TZID=UTC:20220623T150000
DTEND;TZID=UTC:20220625T140000
DTSTAMP:20260420T013209
CREATED:20220621T142642Z
LAST-MODIFIED:20220621T145550Z
UID:2641-1655996400-1656165600@fesvet.es
SUMMARY:X Congreso Mundial Taurino de Veterinaria 2022
DESCRIPTION:Este Congreso quiere destacar el papel fundamental que juega el veterinario en el desarrollo de los festejos taurinos y su vinculación con la Sanidad y el Bienestar Animal.
URL:https://fesvet.es/evento/x-congreso-mundial-taurino-de-veterinaria-2022/
LOCATION:Auditorio y Palacio de Congresos de Castellón\, Av. de la Mare de Déu del Lledó\, 50\,\, Castellón de la Plana\, España\, 12004\, España
CATEGORIES:Congreso
ATTACH;FMTTYPE=image/jpeg:https://fesvet.es/wp-content/uploads/2022/06/torocastellon.jpg
ORGANIZER;CN="Consejo General de Colegios Veterinarios de Espa%C3%B1a":MAILTO:secretariageneral@colvet.es
END:VEVENT
BEGIN:VEVENT
DTSTART;TZID=UTC:20220518T160000
DTEND;TZID=UTC:20220521T143000
DTSTAMP:20260420T013209
CREATED:20220408T072858Z
LAST-MODIFIED:20220408T074210Z
UID:2071-1652889600-1653143400@fesvet.es
SUMMARY:Jornadas GEVO - AVEPA 2022
DESCRIPTION:Jornadas organizadas por el GRUPO DE TRABAJO DE ORTOPEDIA Y TRAUMATOLOGÍA  que tendrán lugar del 18-21 de mayo en BILBAO
URL:https://fesvet.es/evento/jornadas-gevo-avepa/
LOCATION:AZKUNA ZENTROA\, Plaza Arriquibar\, 4\, Bilbao\, España\, 48010\, España
CATEGORIES:Jornadas
ATTACH;FMTTYPE=image/png:https://fesvet.es/wp-content/uploads/2022/04/GEVO22.png
ORGANIZER;CN="Muriel Idelsohn":MAILTO:midelsohn@avepa.org
END:VEVENT
BEGIN:VEVENT
DTSTART;TZID=UTC:20220430T000000
DTEND;TZID=UTC:20220430T233000
DTSTAMP:20260420T013209
CREATED:20220423T044245Z
LAST-MODIFIED:20220423T044543Z
UID:2202-1651276800-1651361400@fesvet.es
SUMMARY:Día Mundial del Veterinario 2022
DESCRIPTION:Evento anual que se celebra el último sábado de abril. Este año 2022 coincide su celebración el 30 de abril. Se creó por iniciativa de la Asociación Mundial de Veterinaria (AMV) y tiene sus orígenes en el 2011 con motivo de la celebración del 250 aniversario de creación de la primera escuela veterinaria en Lyon (Francia)\, en 1761. Se ha convertido en una fecha de celebración común para todos los veterinarios del mundo y una importante oportunidad para dar a conocer la extraordinaria labor que desempeñan los veterinarios en la sociedad.
URL:https://fesvet.es/evento/dia-mundial-del-veterinario-2022/
CATEGORIES:Celebraciones
ATTACH;FMTTYPE=image/png:https://fesvet.es/wp-content/uploads/2022/04/WVA.png
ORGANIZER;CN="Asociaci%C3%B3n Mundial de Veterinaria  (AMV)":MAILTO:secretariat@worldvet.org
END:VEVENT
BEGIN:VEVENT
DTSTART;TZID=UTC:20220422T080000
DTEND;TZID=UTC:20220423T170000
DTSTAMP:20260420T013209
CREATED:20220402T163048Z
LAST-MODIFIED:20220402T163539Z
UID:1809-1650614400-1650733200@fesvet.es
SUMMARY:XXI Congreso de especialidades veterinarias AVEPA-GTA 2022
DESCRIPTION:El Congreso  tendrá lugar en El palacio de Congreso de Zaragoza los día 22 y 23 de abril. En el encontrarás una enorme oferta de formación\, la posibilidad de interactuar con multitud de compañeros interesados en nuestra especialidad\, aprender de ellos\, y participar en los principales foros de las especialidades de nuestra profesión. Presencial y Online. Formulario de inscripción \nDecargar programa
URL:https://fesvet.es/evento/xxi-congreso-de-especialidades-veterinarias-avepa-gta-2022/
LOCATION:PALACIO DE CONGRESOS DE ZARAGOZA\, Plaza Lucas Miret Rodriguez\,1\, Zaragoza\, España\, 50018\, España
CATEGORIES:Congreso
ATTACH;FMTTYPE=image/png:https://fesvet.es/wp-content/uploads/2022/04/GTA2022.png
END:VEVENT
BEGIN:VEVENT
DTSTART;TZID=UTC:20220403T120000
DTEND;TZID=UTC:20220403T140000
DTSTAMP:20260420T013209
CREATED:20220310T175634Z
LAST-MODIFIED:20220313T183551Z
UID:715-1648987200-1648994400@fesvet.es
SUMMARY:2ª Manifestación Veterinaria
DESCRIPTION:
URL:https://fesvet.es/evento/manifestacion-3-de-abril-2022/
CATEGORIES:Manifestación
ATTACH;FMTTYPE=image/jpeg:https://fesvet.es/wp-content/uploads/2022/03/2manifestacion-e1647197171127.jpeg
ORGANIZER;CN="FESVET":MAILTO:webmaster@fesvet.es
END:VEVENT
END:VCALENDAR